BEGIN:VCALENDAR
VERSION:2.0
PRODID:-//Афишка - ECPv5.6.0//NONSGML v1.0//EN
CALSCALE:GREGORIAN
METHOD:PUBLISH
X-WR-CALNAME:Афишка
X-ORIGINAL-URL:https://afishka.co.il
X-WR-CALDESC:Events for Афишка
BEGIN:VTIMEZONE
TZID:Europe/Helsinki
BEGIN:DAYLIGHT
TZOFFSETFROM:+0200
TZOFFSETTO:+0300
TZNAME:EEST
DTSTART:20210328T010000
END:DAYLIGHT
BEGIN:STANDARD
TZOFFSETFROM:+0300
TZOFFSETTO:+0200
TZNAME:EET
DTSTART:20211031T010000
END:STANDARD
END:VTIMEZONE
BEGIN:VEVENT
DTSTART;TZID=Europe/Helsinki:20210424T200000
DTEND;TZID=Europe/Helsinki:20210524T220000
DTSTAMP:20210720T042944
CREATED:20161124T073419Z
LAST-MODIFIED:20161124T073419Z
UID:7404-1619294400-1621893600@afishka.co.il
SUMMARY:Александр Васильев в Израиле
DESCRIPTION:Александр Васильев в Израиле: Историк моды-искусствовед Александр Васильев премьерная программа великие евреи законодатели моды иконы стиля ХХ-ХХI веков. \nК каким уловкам скрытым и явным в одежде прибегаем мы все\, чтоб понравиться противоположному полу? \nКак изменения в восприятии секса отражались на развитии моды 20-го столетия? \nКакие каноны мужской и женской красоты существовали в прошлом веке? \nАлександр Васильев – театральный художник\, сценограф\, декоратор\, автор более 30-ти книг\, телеведущий одного из самых популярных шоу российского телевидения. Он награждён множеством орденов и медалей\, был представлен в номинации «Легенда моды» на World Fashion Awards. Почетный член Российской академии художеств. \nМаэстро — обладатель частной коллекции моды и костюма\, предметы которой выставляются во многих странах мира. Коллекция хранится во Франции\, пополняется на протяжении 30 лет и состоит более чем из 50 тысяч экспонатов от XVII века до современности\, среди которых — шедевры высокой моды\, созданные лучшими ателье своей эпохи. \nВасильев родился в семье людей необыкновенно творческих. Его отец\, народный художник России\, Александр Васильев-старший – академик живописи\, создатель декораций и костюмов более чем к 300 постановкам на отечественной и зарубежной сцене. Мать\, Татьяна Васильева\, драматическая актриса\, профессор\, одна из первых выпускниц Школы-студии МХАТ. \n«Мода – это настоящее зеркало истории\, в котором отражаются войны\, космические исследования\, экономические взлеты и падения\, личности отдельных людей. Религия\, политика\, секс\, национальность\, климат – все это важные компоненты\, влияющие на развитие моды»\,– утверждает Александр Васильев \nИтак\, нас ожидает вечер\, который одновременно является шоу\, кинопоказом\, моноспектаклем и мастер-классом знаменитого Александра Васильева. \nМаэстро\, мы ждем Вас! \n  \nПродолжить читать..\nАлександр Васильев в Израиле\nСвои первые костюмы и декорации для кукольного театра маленький Саша Васильев создал в возрасте пяти лет\, а свой первый спектакль-сказку «Волшебник Изумрудного города» оформил в 12 лет. В 22 года А. Васильев окончил постановочный факультет Школы-студии МХАТ и затем работал художником по костюмам в Московском театре на Малой Бронной. \nВ 1982 году он переехал в Париж\, где практически сразу начал работать для французского театра Ронд Пуант на Елисейских полях\, Студии оперы Бастилии\, Королевской оперы Версаля\, Авиньонского фестиваля и пр. Уникальный талант и необычайные способности Александра Васильева быстро заметили и оценили по достоинству во всем мире: создавать декорации для опер\, театральных постановок\, фильмов и балетов его приглашали известнейшие театры и труппы Англии и Гонконга\, Японии и Мексики\, США и Чили. В 2016 году театральные эскизы Александра Васильева были признаны национальным достоянием России и вошли в фонд Министерства культуры. \nСегодня Александр Васильев в качестве приглашенного профессора по истории моды и сценического дизайна читает лекции на 4-х языках во многих университетах и колледжах мира. Васильев – обладатель одной из самых больших частных коллекций костюмов XVIII – XXI веков. Его коллекция\, насчитывающая около 55 тысяч уникальных экспонатов\, связанных с историей моды и прежде всего с историей русского зарубежья пользуется международной славой\, благодаря многочисленным тематическим выставкам\, которые регулярно проходят в России и за рубежом. \nАлександр Васильев – автор более 30 книг\, среди которых и уникальная книга «Красота в изгнании»\, повествующая о судьбах русской белой эмиграции на примерах из жизни самых красивых ее представительниц. Книга «Красота в изгнании» переиздавалась 15 раз и в 2000 году была переведена на английский язык в Нью-Йорке. За «Красотой в изгнании» последовали «Русская мода. 150 лет в фотографиях»\, «Европейская мода. Три века» и многие другие. \nС 2008 года Александр Васильев – бессменный модный судья в легендарном телепроекте 1-го канала «Модный приговор»\, который ежедневно смотрят более 35 миллионов россиян и огромная русскоязычная аудитория во всем мире. \nЦитаты от Маэстро: \n«Мода — это всегда очень дорого\, а стиль — нет. Помните\, что следить за модой смешно\, а не следить – глупо». \n«Ни в Милане\, ни в Париже\, ни в Лондоне тренды не носят. Если то\, что на вас надето узнаваемо — это значит\, что у вас нет вкуса». \n«Элегантность — ум женщины». \n«Когда женщины смотрят на себя в зеркало\, они должны думать о том\, что можно убрать\, а не о том\, что бы такого добавить». \n«Я считаю\, что те самые солнцезащитные очки с надписью Chanel или Dolce & Gabbana в стразах и золотых завитушках\, которые наши женщины носят на голове – именно на голове\, а не там\, где положено\, – и есть тот самый кокошник\, который они не доносили…» \n«Главный принцип хорошего тона – уважение к другим». \nПриходите! Эта эксклюзивная программа  для всех ценителей красоты и стиля\, в независимости – мужчина он или женщина! \n  \n\n\nhttps://www.youtube.com/watch?v=DHY_msF1zcwVideo can’t be loaded because JavaScript is disabled: Документальный фильм «Александр Васильев. Всегда в моде». 2018 год. (https://www.youtube.com/watch?v=DHY_msF1zcw)
URL:https://afishka.co.il/event/%d0%b0%d0%bb%d0%b5%d0%ba%d1%81%d0%b0%d0%bd%d0%b4%d1%80-%d0%b2%d0%b0%d1%81%d0%b8%d0%bb%d1%8c%d0%b5%d0%b2-%d0%b2-%d0%b8%d0%b7%d1%80%d0%b0%d0%b8%d0%bb%d0%b5/2021-04-24/
LOCATION:Израиль\, Израиль
CATEGORIES:Лекция,Популярное
ATTACH;FMTTYPE=image/jpeg:https://afishka.co.il/wp-content/uploads/2016/11/vasiliev_v_izraile_2020_tickets.jpg
ORGANIZER;CN="Rest%20International":MAILTO:tickets@restinter.co.il
END:VEVENT
END:VCALENDAR