BEGIN:VCALENDAR
VERSION:2.0
PRODID:-//Афишка - ECPv5.6.0//NONSGML v1.0//EN
CALSCALE:GREGORIAN
METHOD:PUBLISH
X-WR-CALNAME:Афишка
X-ORIGINAL-URL:https://afishka.co.il
X-WR-CALDESC:Events for Афишка
BEGIN:VTIMEZONE
TZID:Europe/Helsinki
BEGIN:DAYLIGHT
TZOFFSETFROM:+0200
TZOFFSETTO:+0300
TZNAME:EEST
DTSTART:20210328T010000
END:DAYLIGHT
BEGIN:STANDARD
TZOFFSETFROM:+0300
TZOFFSETTO:+0200
TZNAME:EET
DTSTART:20211031T010000
END:STANDARD
END:VTIMEZONE
BEGIN:VEVENT
DTSTART;TZID=Europe/Helsinki:20210818T183000
DTEND;TZID=Europe/Helsinki:20210818T233000
DTSTAMP:20210720T043219
CREATED:20210525T094500Z
LAST-MODIFIED:20210526T181058Z
UID:7680-1629311400-1629329400@afishka.co.il
SUMMARY:Morgenshtern / Моргенштерн в Израиле
DESCRIPTION:MORGENSTERN в Израиле!\nУ нас для вас настоящая бомба! 18 Августа «Женщина года» и «Чертов гений» Моргенштерн в Израиле! \nЧертов гений – так говорит о себе самый главный герой топ-чартов России\, и с этим сложно не согласиться. Обладатель званий «Женщина года»\, «Человек года 2020» по версии GQ\, сегодня Моргенштерн – один из самых успешных рэп-исполнителей на постсоветском пространстве. \nЕго новый альбом «Million Dollar: Happiness»\, вышедший буквально несколько дней назад\, только за первые сутки пробил планку в 21 миллион прослушек в VK\, побив рекорд площадки по прослушиванию релиза за один день. А его предыдущий альбом «Легендарная пыль»\, написанный в 2020 всего за неделю в прямом эфире\, собрал уже более 94 млн прослушиваний в VK. На официальном YouTube-канале артиста 10 млн фанатов\, вы только вдумайтесь в эти цифры. Просто нонсенс!!! \nКаждый клип – это десятки миллионов просмотров\, каждый трек – первые места российских топ-чартов\, каждый концерт – это sold out. \nМожно больше ничего не говорить. Этот концерт будет одним из самых громких событий Израиля в этом году\, 100%!!! \n\nhttps://www.youtube.com/watch?v=wDsU4H2w48kVideo can’t be loaded because JavaScript is disabled: MORGENSHTERN – Cristal & МОЁТ (Клип + итоги 2020 года) (https://www.youtube.com/watch?v=wDsU4H2w48k)
URL:https://afishka.co.il/event/morgenshtern-%d0%bc%d0%be%d1%80%d0%b3%d0%b5%d0%bd%d1%88%d1%82%d0%b5%d1%80%d0%bd-%d0%b2-%d0%b8%d0%b7%d1%80%d0%b0%d0%b8%d0%bb%d0%b5/
LOCATION:Live Park Rishon Lezion\, Live Park\, Rishon LeZion\, Израиль
CATEGORIES:Диско / клубы / Фестивали,Поп,Популярное,Рэп
ATTACH;FMTTYPE=image/jpeg:https://afishka.co.il/wp-content/uploads/2021/05/morgenshtern_israel.jpg
ORGANIZER;CN="stde":MAILTO:info@stde.co.il
GEO:31.9764793;34.7417975
X-APPLE-STRUCTURED-LOCATION;VALUE=URI;X-ADDRESS=Live Park Rishon Lezion Live Park Rishon LeZion Израиль;X-APPLE-RADIUS=500;X-TITLE=Live Park:geo:34.7417975,31.9764793
END:VEVENT
END:VCALENDAR