BEGIN:VCALENDAR
VERSION:2.0
PRODID:-//Афишка - ECPv5.3.2.1//NONSGML v1.0//EN
CALSCALE:GREGORIAN
METHOD:PUBLISH
X-WR-CALNAME:Афишка
X-ORIGINAL-URL:https://afishka.co.il
X-WR-CALDESC:Events for Афишка
BEGIN:VTIMEZONE
TZID:Europe/Helsinki
BEGIN:DAYLIGHT
TZOFFSETFROM:+0200
TZOFFSETTO:+0300
TZNAME:EEST
DTSTART:20210328T010000
END:DAYLIGHT
BEGIN:STANDARD
TZOFFSETFROM:+0300
TZOFFSETTO:+0200
TZNAME:EET
DTSTART:20211031T010000
END:STANDARD
END:VTIMEZONE
BEGIN:VEVENT
DTSTART;TZID=Europe/Helsinki:20210527T210000
DTEND;TZID=Europe/Helsinki:20210527T230000
DTSTAMP:20210513T115741
CREATED:20210401T134828Z
LAST-MODIFIED:20210401T134909Z
UID:7412-1622149200-1622156400@afishka.co.il
SUMMARY:Billy's band в Израиле 2021
DESCRIPTION:Каждый визит в Израиль оригинального коллектива Billy’s Band становится важным событием в музыкальной жизни страны. Легенды романтического алкоджаза выступят с концертом по заявкам в Тель-Авиве: любимые песни в ритмах энергичного свинга\, элегантного блюза\, драйвового рока и изысканного джаза. \nПитерская группа Billy’s Band быстро прославилась своим неординарным творчеством далеко за пределами «северной столицы». Они неизменно принимают участие в международных джазовых фестивалях и часто гастролируют по всему миру. \n\nТворчество Billy’s Band неоднозначное\, чем привлекает внимание абсолютно разных слушателей. Причем\, нет никаких ограничений в возрасте или социальном статусе. Billy’s Band заставляют подпевать и танцевать под свои хиты любого\, кто может себя назвать ценителем качественной музыки\, которая вне времени.В Тель-Авиве Billy’s Band даст один концерт\, который состоится 27 мая в обновленом клубе Гагарин 2.1\, который идеально соответствует концепции музыкального творчества коллектива. \nДискография Billy’s Band насчитывает 5 студийных\, 3 концертных альбома\, 3 сингла и несколько сборников; кроме того\, в истории группы есть опыт участия в крупнейших фестивалях джазовой музыки в США и Канаде. \nСами музыканты характеризуют свой стиль как «романтический алкоджаз»\, ранее же называли себя «похоронным диксилендом с бесконечным хэппи-эндом». Один из немногих популярных коллективов в России\, который относится к модели DIY (Do It Yourself) — команда сама записывает и оформляет альбомы\, занимается дистрибуцией и рекламой\, устраивает концерты и гастроли\, при этом она не заключила ни одного контракта с крупным рекорд-лейблом. \n\n\nhttps://www.youtube.com/watch?v=X8kOuoL7rmEVideo can’t be loaded because JavaScript is disabled: Туманная погода | Billy`s band (https://www.youtube.com/watch?v=X8kOuoL7rmE)
URL:https://afishka.co.il/event/billys-band-%d0%b2-%d0%b8%d0%b7%d1%80%d0%b0%d0%b8%d0%bb%d0%b5-2021/
LOCATION:Гагарин 2.1\, דרך קיבוץ גלויות 13\, Тель Авив\, Израиль
CATEGORIES:Рок,Шансон / Фолк / Творческая песня
ATTACH;FMTTYPE=image/jpeg:https://afishka.co.il/wp-content/uploads/2021/04/alkodjazz_israel.jpg
GEO:32.0852999;34.7817676
X-APPLE-STRUCTURED-LOCATION;VALUE=URI;X-ADDRESS=Гагарин 2.1 דרך קיבוץ גלויות 13 Тель Авив Израиль;X-APPLE-RADIUS=500;X-TITLE=דרך קיבוץ גלויות 13:geo:34.7817676,32.0852999
END:VEVENT
END:VCALENDAR