BEGIN:VCALENDAR
VERSION:2.0
PRODID:-//Афишка - ECPv5.6.0//NONSGML v1.0//EN
CALSCALE:GREGORIAN
METHOD:PUBLISH
X-WR-CALNAME:Афишка
X-ORIGINAL-URL:https://afishka.co.il
X-WR-CALDESC:Events for Афишка
BEGIN:VTIMEZONE
TZID:Europe/Helsinki
BEGIN:DAYLIGHT
TZOFFSETFROM:+0200
TZOFFSETTO:+0300
TZNAME:EEST
DTSTART:20210328T010000
END:DAYLIGHT
BEGIN:STANDARD
TZOFFSETFROM:+0300
TZOFFSETTO:+0200
TZNAME:EET
DTSTART:20211031T010000
END:STANDARD
END:VTIMEZONE
BEGIN:VEVENT
DTSTART;TZID=Europe/Helsinki:20210925T170000
DTEND;TZID=Europe/Helsinki:20210925T190000
DTSTAMP:20210618T040245
CREATED:20170114T202243Z
LAST-MODIFIED:20210526T181114Z
UID:7375-1632589200-1632596400@afishka.co.il
SUMMARY:Маша и Медведь в Израиле в музыкальном спектакле «Маша и Медведь. Всемирный День Дружбы. Да-Да!»
DESCRIPTION:Новые приключения Маши и Медведя в музыкальном спектакле «Очень детективная история. Да-Да!»! \nПо мотивам анимационного и всеми любимого мультсериала «Маша и Медведь»\, по лицензии студии АнимАккорд. \nУдивительная и зажигательная история Маши и Медведя в новом музыкальном спектакле «Маша и Медведь. Всемирный День Дружбы. Да-Да!» откроет юному зрителю настоящую тайну счастья! В чем оно – счастье? Из чего состоит? И где его найти? \n  \nПродолжить читать..\n  \nМаша и Медведь в Израиле\nМаша пробует найти ответы и вместе с Медведем отправляется в путешествие\, где ее уже поджидают веселые приключения! Но вдвоем\, они точно не справятся! Поэтому\, скорее спешите в захватывающее путешествие с Машей и Медведем! Только вместе с детьми Маша и Медведь смогут справиться со всеми препятствиями – через интерактивные и развлекательные игры\, яркие музыкальные номера\, танцевальные этюды и не только! \nГрандиозная премьера с любимыми персонажами\, эффектными ростовыми куклами\,\nяркими декорациями\, цирковыми\, танцевальными и песенными номерами\nУвлекательное интерактивное представление для всей семьи от генерального продюсера суперпопулярного мультсериала поставлено профессиональными режиссерами\, хореографами и настоящими фокусниками-иллюзионистами.\nСпектакль сопровождается авторской музыкой\, зажигательными танцами\, акробатическими номерами и захватывающими сценами. На протяжении всего шоу зрители являются полноценными участниками действа – они напрямую вовлечены в сюжет. \nА еще\, деток и взрослых будет ждать атмосфера мультфильма и уникальная возможность в реальном времени пообщаться с любимыми героями\, стать неотъемлемым участником спектакля и даже повлиять на ход событий! \nЕще больше лесных героев – друзей Маши и оригинальных номеров\, живое общение со зрителем создадут во время представления атмосферу чуда\, настоящего волшебства – все то\, что несет в себе полноценный праздник! \nИ\, конечно ещё кое-что очень-очень важное… что же такое Маша найдет вместе с детьми и назовет настоящим и неподдельным счастьем! Маша и Медведь в Израиле! \nОфициальная лицензионная постановка от компании Анимаккорд – это:\n• живой и интересный сценарий — как мультсериал\, воплощенный на сцене\,\n• лицензионные ростовые куклы и декорации — по-настоящему качественные и красивые\,\n• формат спектакля – музыкальная сказка! Гости услышат как хорошо знакомые и любимые мелодии\, так и новые замечательные песенки в исполнении Маши.\nТеплая и поучительная сказка понравится детям всех возрастов (0+).\nПродолжительность действия: 1 час 30 минут.\nВ фойе по окончании представления бесплатные фотозоны с Машей и Медведем и точки продаж фирменной продукции. \n\n\nhttps://www.youtube.com/watch?v=5EVzgVG2aIQVideo can’t be loaded because JavaScript is disabled: МАША и МЕДВЕДЬ на Суккот в Израиле с 2 по 11 октября! (https://www.youtube.com/watch?v=5EVzgVG2aIQ)
URL:https://afishka.co.il/event/%d0%bc%d0%b0%d1%88%d0%b8-%d0%b8-%d0%bc%d0%b5%d0%b4%d0%b2%d0%b5%d0%b4%d1%8f-%d0%b2-%d0%b8%d0%b7%d1%80%d0%b0%d0%b8%d0%bb%d0%b5-%d0%b2-%d0%bc%d1%83%d0%b7%d1%8b%d0%ba%d0%b0%d0%bb%d1%8c%d0%bd%d0%be%d0%bc/2021-09-25/
LOCATION:Израиль\, Израиль
CATEGORIES:Для детей,Популярное
ATTACH;FMTTYPE=image/jpeg:https://afishka.co.il/wp-content/uploads/2017/01/masha_i_medved_israel_2020.jpg
ORGANIZER;CN="Rest%20International":MAILTO:tickets@restinter.co.il
END:VEVENT
END:VCALENDAR