BEGIN:VCALENDAR
VERSION:2.0
PRODID:-//Афишка - ECPv5.3.2.1//NONSGML v1.0//EN
CALSCALE:GREGORIAN
METHOD:PUBLISH
X-WR-CALNAME:Афишка
X-ORIGINAL-URL:https://afishka.co.il
X-WR-CALDESC:Events for Афишка
BEGIN:VTIMEZONE
TZID:Europe/Helsinki
BEGIN:DAYLIGHT
TZOFFSETFROM:+0200
TZOFFSETTO:+0300
TZNAME:EEST
DTSTART:20210328T010000
END:DAYLIGHT
BEGIN:STANDARD
TZOFFSETFROM:+0300
TZOFFSETTO:+0200
TZNAME:EET
DTSTART:20211031T010000
END:STANDARD
END:VTIMEZONE
BEGIN:VEVENT
DTSTART;TZID=Europe/Helsinki:20210624T213000
DTEND;TZID=Europe/Helsinki:20210624T233000
DTSTAMP:20210502T075814
CREATED:20191216T221858Z
LAST-MODIFIED:20210425T074709Z
UID:6569-1624570200-1624577400@afishka.co.il
SUMMARY:Кис-кис not dead в Израиле
DESCRIPTION:Кис-кис можно пророчить один из самых успешных стартов в карьере современных русских рок-групп. Кис-кис  в Израиле! Девочки записывают бодрый панк\, отражающий нежелание взрослеть\, и беззаботный юношеский максимализм в целом — и кажется\, что это чертовски успешная формула\, в которой нуждаются молодые слушатели. Кис-кис  в Израиле 2020 \nКис-кис  в Израиле\n24/6/2021 кис-кис выступят в клубе «Гагарин 2.1». Начало в 21:30. \nОни молоды\, полны идей и уверенно претендуют на звание одного из главных открытий 2019 года. Юные «кис-кис» взяли лучшее от гаражного рока\, поп-панка\, панк-рока и инди-рока\, создав кое-что способное засесть в голове на ближайшие недели. \n\nhttps://youtu.be/QDJ6YqI3sjoVideo can’t be loaded because JavaScript is disabled: кис-кис – молчи (https://youtu.be/QDJ6YqI3sjo)\n\n\nhttps://youtu.be/A-ouS-cBu8IVideo can’t be loaded because JavaScript is disabled: кис-кис – лбтд (https://youtu.be/A-ouS-cBu8I)
URL:https://afishka.co.il/event/%d0%ba%d0%b8%d1%81-%d0%ba%d0%b8%d1%81-not-dead-%d0%b2-%d0%b8%d0%b7%d1%80%d0%b0%d0%b8%d0%bb%d0%b5/
LOCATION:Гагарин 2.1\, דרך קיבוץ גלויות 13\, Тель Авив\, Израиль
CATEGORIES:Поп,Рок,Юмор
ATTACH;FMTTYPE=image/jpeg:https://afishka.co.il/wp-content/uploads/2019/12/kis_kis_v_izraile.jpg
ORGANIZER;CN="stde":MAILTO:info@stde.co.il
GEO:32.0852999;34.7817676
X-APPLE-STRUCTURED-LOCATION;VALUE=URI;X-ADDRESS=Гагарин 2.1 דרך קיבוץ גלויות 13 Тель Авив Израиль;X-APPLE-RADIUS=500;X-TITLE=דרך קיבוץ גלויות 13:geo:34.7817676,32.0852999
END:VEVENT
END:VCALENDAR