BEGIN:VCALENDAR
VERSION:2.0
PRODID:-//Афишка - ECPv5.3.2.1//NONSGML v1.0//EN
CALSCALE:GREGORIAN
METHOD:PUBLISH
X-WR-CALNAME:Афишка
X-ORIGINAL-URL:https://afishka.co.il
X-WR-CALDESC:Events for Афишка
BEGIN:VTIMEZONE
TZID:Europe/Helsinki
BEGIN:DAYLIGHT
TZOFFSETFROM:+0200
TZOFFSETTO:+0300
TZNAME:EEST
DTSTART:20210328T010000
END:DAYLIGHT
BEGIN:STANDARD
TZOFFSETFROM:+0300
TZOFFSETTO:+0200
TZNAME:EET
DTSTART:20211031T010000
END:STANDARD
END:VTIMEZONE
BEGIN:VEVENT
DTSTART;TZID=Europe/Helsinki:20210513T210000
DTEND;TZID=Europe/Helsinki:20210513T230000
DTSTAMP:20210502T220002
CREATED:20191203T194054Z
LAST-MODIFIED:20210401T130308Z
UID:6502-1620939600-1620946800@afishka.co.il
SUMMARY:Дима Билан в Израиле - Шоу «Планета Билан»
DESCRIPTION:«Планета Билан» — это шоу в новом формате на стыке музыки\, перформанса\, кино и героического комикса. Это фильм в жанре фэнтези\, сыгранный вживую на сцене! Специально для этого шоу Дима Билан снимает эпизоды-исповеди о своей жизни. Шоу\, задуманное как фантастический байопик\, основано на реальных чувствах\, где главная тема – это поиск себя. Здесь нет фактов биографии\, есть лишь только ощущения\, переживания и эмоции\, через которые перед зрителем открывается внутренний мир героя. Дима Билан в Израиле! \nЕдинственный победитель Евровидения от России\, 7 кратный победитель EMA\, единственный в истории обладатель 17 тарелок Муз-ТВ\, лидер ротаций\, чартов и музыкальных премий Дима Билан представит в 2020 году первое живое фэнтези шоу «Планета Билан». \nДима Билан в Израиле\nГрандиозный тур «Планета Билан» стартовал в 2019 году\, концерты пройдут в 22 городах России\, странах Прибалтики\, США. Германии и Израиля.. Первые концерты состоялись 6 февраля в Москве в «ВТБ Арена» и 22 февраля в Санкт-Петербурге в «Ледовом Дворце». \nМузыкант представит программу мирового уровня со спецэффектами и неожиданными световыми решениями\, где герой путешествует по своей Вселенной и попадает в параллельные реальности своей души. Но главное – это два с лишним часа живого голоса и лучших песен Димы Билана в сопровождении музыкантов и танцоров. \nДима в Планете Билан — это голос\, который вы еще не слышали. Это внутренний голос артиста\, который прозвучит на весь космос.
URL:https://afishka.co.il/event/%d0%b4%d0%b8%d0%bc%d0%b0-%d0%b1%d0%b8%d0%bb%d0%b0%d0%bd-%d0%b2-%d0%b8%d0%b7%d1%80%d0%b0%d0%b8%d0%bb%d0%b5/2021-05-13/
LOCATION:Израиль\, Израиль
CATEGORIES:Поп,Эстрада
ATTACH;FMTTYPE=image/jpeg:https://afishka.co.il/wp-content/uploads/2019/12/bilan_V_izraile.jpg
END:VEVENT
END:VCALENDAR