BEGIN:VCALENDAR
VERSION:2.0
PRODID:-//Афишка - ECPv5.3.2.1//NONSGML v1.0//EN
CALSCALE:GREGORIAN
METHOD:PUBLISH
X-WR-CALNAME:Афишка
X-ORIGINAL-URL:https://afishka.co.il
X-WR-CALDESC:Events for Афишка
BEGIN:VTIMEZONE
TZID:Europe/Helsinki
BEGIN:DAYLIGHT
TZOFFSETFROM:+0200
TZOFFSETTO:+0300
TZNAME:EEST
DTSTART:20210328T010000
END:DAYLIGHT
BEGIN:STANDARD
TZOFFSETFROM:+0300
TZOFFSETTO:+0200
TZNAME:EET
DTSTART:20211031T010000
END:STANDARD
END:VTIMEZONE
BEGIN:VEVENT
DTSTART;TZID=Europe/Helsinki:20210513T210000
DTEND;TZID=Europe/Helsinki:20210513T230000
DTSTAMP:20210503T105047
CREATED:20200126T164425Z
LAST-MODIFIED:20210401T114240Z
UID:6800-1620939600-1620946800@afishka.co.il
SUMMARY:Группа Lumen в Израиле 2020
DESCRIPTION:В 2020 году Lumen отправятся в концертный тур с новой программой The Best. \nВ 2018 году группа отметила свое 20-летие большим туром\, представив электрическую и акустическую программы\, а уже в середине апреля 2019 года Lumen выпустили мини-альбом “Культ пустоты”\, в который вошли четыре новые песни. \nДве из них были знакомы слушателям до релиза – это заглавная “Культ пустоты”\, впервые прозвучавшая в феврале на премии “Чартова дюжина” в Санкт-Петербурге\, где фронтмен Lumen Тэм Булатов стал победителем в номинации “Солист”. Песня “Тем\, кто топчет землю” весной 2019 года возглавляла чарт «Нашего радио» несколько недель подряд. \nСледующий релиз Lumen вышел 21 сентября 2019 – песня «Страх»\, вошедшая в саундтрек к комиксу «Бэтмен. Темные ночи. Металл»\, который выпустит издательская группа “Азбука-Аттикус”. Звуковая дорожка будет состоять из новой песни\, а также компиляции композиций группы\, подобранных к содержанию серии. \nLumen в Израиле 2021\nПродолжить читать..\n«Страхи преследуют нас с рождения. Сначала инстинктивные – громких звуков\, ярких вспышек… С годами они становятся всё более сложными и глубокими. Теперь я точно могу сказать о некоторых поворотных моментах в жизни – я поступил так\, потому что испугался. Хотя в тот самый момент мне казалось\, что мною движет что-то другое»\, – говорит фронтмен Lumen Тэм Булатов. «Мы подготовили программу о наших страхах – одиночества и равнодушия\, отсутствия перспектив и тщетности бытия\, войны и смерти\, нелюбви. В этих ежедневных сражениях с нашими тревогами\, фобиями и комплексами есть два исхода: или страх сломит и изменит тебя\, или ты сломишь страх и изменишься сам. В одном случае ты раб\, в другом – герой. Но бывают и другие страхи – за близких и любимых. Поддаваясь им\, жертвуя собственными интересами\, мы становимся лучше. \n«Когда нам предложили создать саундтрек по мотивам комикса «Бэтмэн»\, – продолжает Тэм – мы были более\, чем готовы. Ведь тема страха проходит через историю этого героя красной линией. Работа над новой песней совпала по времени с периодом\, когда мы готовили концертную программу. Все размышления и обсуждения на тему страхов подтолкнули нас к тому\, что мы решили посвятить этому образу весь следующий тур». \nВ связи с тем\, что группа Lumen впервые посетит Израиль\, в программу выступления войдут не только новые песни\, но и все\, проверенные временем\, боевики группы. Ждем вас на концерте\, будет жарко! \n\n\nhttps://www.youtube.com/watch?v=B0vCVZPBqO0Video can’t be loaded because JavaScript is disabled: LUMEN “ХХ лет” |  концерт в Adrenaline Stadium | Москва\, 30 марта 2018 [FULL HD] (https://www.youtube.com/watch?v=B0vCVZPBqO0)\n\n\nhttps://www.youtube.com/watch?v=JFvKzGojndsVideo can’t be loaded because JavaScript is disabled: LUMEN «Sid & Nancy» (из видеоальбома «Всегда 17 – всегда война») 2015\, HD (https://www.youtube.com/watch?v=JFvKzGojnds)
URL:https://afishka.co.il/event/%d0%b3%d1%80%d1%83%d0%bf%d0%bf%d0%b0-lumen-%d0%b2-%d0%b8%d0%b7%d1%80%d0%b0%d0%b8%d0%bb%d0%b5-2020/
LOCATION:Гагарин 2.1\, דרך קיבוץ גלויות 13\, Тель Авив\, Израиль
CATEGORIES:Рок
ATTACH;FMTTYPE=image/jpeg:https://afishka.co.il/wp-content/uploads/2020/01/lumen_v_izraile.jpg
ORGANIZER;CN="stde":MAILTO:info@stde.co.il
GEO:32.0852999;34.7817676
X-APPLE-STRUCTURED-LOCATION;VALUE=URI;X-ADDRESS=Гагарин 2.1 דרך קיבוץ גלויות 13 Тель Авив Израиль;X-APPLE-RADIUS=500;X-TITLE=דרך קיבוץ גלויות 13:geo:34.7817676,32.0852999
END:VEVENT
END:VCALENDAR