BEGIN:VCALENDAR
VERSION:2.0
PRODID:-//Афишка - ECPv5.6.0//NONSGML v1.0//EN
CALSCALE:GREGORIAN
METHOD:PUBLISH
X-WR-CALNAME:Афишка
X-ORIGINAL-URL:https://afishka.co.il
X-WR-CALDESC:Events for Афишка
BEGIN:VTIMEZONE
TZID:Europe/Helsinki
BEGIN:DAYLIGHT
TZOFFSETFROM:+0200
TZOFFSETTO:+0300
TZNAME:EEST
DTSTART:20210328T010000
END:DAYLIGHT
BEGIN:STANDARD
TZOFFSETFROM:+0300
TZOFFSETTO:+0200
TZNAME:EET
DTSTART:20211031T010000
END:STANDARD
END:VTIMEZONE
BEGIN:VEVENT
DTSTART;TZID=Europe/Helsinki:20211110T200000
DTEND;TZID=Europe/Helsinki:20211119T220000
DTSTAMP:20211023T180713
CREATED:20191130T001248Z
LAST-MODIFIED:20191130T001248Z
UID:7850-1636574400-1637359200@afishka.co.il
SUMMARY:Глеб Матвейчук в Израиле - Сольные концерты
DESCRIPTION:Глеб Матвейчук — актер\, композитор\, ПЕВЕЦ!..\nКрасивый блондин с ангельским голосом!..  \nПрограмма «Я объявляю Вам любовь!» В сопровождении группы «Аккорд» \nПевец\, который с блеском исполнил арии «Призрака оперы» как в женском\, так и в мужском образах!..\nПевец\, который после голоса Анны Нетребко поет голосом Литла Ричарда — и это почти на грани человеческих возможностей!..\nПевец\, которому покорилась ария Плавалагуны из фильма «Пятый элемент» !.. \n  \nГлеб Матвейчук в Израиле\n\nДа\, Пять октав — именно таков диапазон\, позволяющий Актеру творить Невозможное на сцене!.. А его участие и победы в различных телешоу — «Две звезды»\, «Пять аккордов»\, «Точь-в-Точь» \nОн\, Глеб МАТВЕЙЧУК — истинный Принц сегодняшней музыкальной сцены в репертуаре которого собрана золотая коллекция лучших и любимых песен и романсов!.. \nОн тот\, кто сегодня щедро делится своим талантом со зрителем\, тот\, кто каждой песне дарит совершенно новую жизнь\, заставляя трепетать сердца всех истинных любителей Настоящей Музыки!.. \nИ\, кстати\, Вы ведь не знали\, что фильмы «Чкалов» и «Адмиралъ» украшены музыкой нашего героя\, а арию Иисуса Христа из известного бродвейского мюзикла\, также\, блестяще исполнил Глеб Матвейчук!.. И еще\, и еще\, и еще… \nПриходите на концерты!.. И Вы\, наверняка\, будете покорены обаянием и харизмой этого удивительного Актера!.. \n\nhttps://www.youtube.com/watch?v=qj6UbeRsoag
URL:https://afishka.co.il/event/%d0%b3%d0%bb%d0%b5%d0%b1-%d0%bc%d0%b0%d1%82%d0%b2%d0%b5%d0%b9%d1%87%d1%83%d0%ba-%d0%b2-%d0%b8%d0%b7%d1%80%d0%b0%d0%b8%d0%bb%d0%b5/2021-11-10/
LOCATION:Израиль\, Израиль
CATEGORIES:Поп,Эстрада
ATTACH;FMTTYPE=image/jpeg:https://afishka.co.il/wp-content/uploads/2019/11/matveichuk_v_izraile.jpg
END:VEVENT
END:VCALENDAR